BEGIN:VCALENDAR
VERSION:2.0
PRODID:-//Commune d&#039;Hangest-sur-Somme - ECPv6.15.20//NONSGML v1.0//EN
CALSCALE:GREGORIAN
METHOD:PUBLISH
X-WR-CALNAME:Commune d&#039;Hangest-sur-Somme
X-ORIGINAL-URL:https://www.hangestsursomme.fr
X-WR-CALDESC:Évènements pour Commune d&#039;Hangest-sur-Somme
REFRESH-INTERVAL;VALUE=DURATION:PT1H
X-Robots-Tag:noindex
X-PUBLISHED-TTL:PT1H
BEGIN:VTIMEZONE
TZID:Europe/Paris
BEGIN:DAYLIGHT
TZOFFSETFROM:+0100
TZOFFSETTO:+0200
TZNAME:CEST
DTSTART:20240331T010000
END:DAYLIGHT
BEGIN:STANDARD
TZOFFSETFROM:+0200
TZOFFSETTO:+0100
TZNAME:CET
DTSTART:20241027T010000
END:STANDARD
BEGIN:DAYLIGHT
TZOFFSETFROM:+0100
TZOFFSETTO:+0200
TZNAME:CEST
DTSTART:20250330T010000
END:DAYLIGHT
BEGIN:STANDARD
TZOFFSETFROM:+0200
TZOFFSETTO:+0100
TZNAME:CET
DTSTART:20251026T010000
END:STANDARD
BEGIN:DAYLIGHT
TZOFFSETFROM:+0100
TZOFFSETTO:+0200
TZNAME:CEST
DTSTART:20260329T010000
END:DAYLIGHT
BEGIN:STANDARD
TZOFFSETFROM:+0200
TZOFFSETTO:+0100
TZNAME:CET
DTSTART:20261025T010000
END:STANDARD
END:VTIMEZONE
BEGIN:VEVENT
DTSTART;TZID=Europe/Paris:20250714T130000
DTEND;TZID=Europe/Paris:20250714T170000
DTSTAMP:20260421T024759
CREATED:20250606T154331Z
LAST-MODIFIED:20250618T103342Z
UID:2734-1752498000-1752512400@www.hangestsursomme.fr
SUMMARY:Journée du 14 Juillet 2025
DESCRIPTION:Lundi 14 juillet :  \n 9 heures 00 : Pêche à la truite à la pisciculture d’Hangest\, participation de 3 euros pour les pêcheurs (paiement sur place)\, inscription en mairie avant le 12 juillet au soir. (Réservée aux habitants d’Hangest). \n 11 H 00 : Formation du cortège en mairie\, dépôt de gerbe au monument et dépôt de gerbe en mémoire de l’adjudant Bault. \n  \n\nVin d’honneur en mairie.\n\n  \n\nA partir de 13 H 00 : repas au stade organisé par l’association « Les Canailloux » (présidente Mme VERSAEN Denise).\n\n  \nMenu adulte : 13 € \n-Andouillette ou Côte de porc ou 2 chipos ou 2 merguez \n\nFrites\n\n–     Fromage \n\nTarte\n\nMenu enfant : 8 € \n\n1 merguez ou 1 chipo\nFrites\nFromage\nGlace\n\nRESERVATION DES MENUS avant le 01 juillet auprès de M. ou Mme VERSAEN   \n  \nTEL : 06 15 91 73 78 ou 06 45 24 91 38 \n  \n\nA partir de 15 H 00\, jeux divers au stade pour petits et grands et Vélos fleuris pour les petits\n\n  \n  \n\n\nL’Association de Gym  les Canailloux organise le repas du 14 juillet 2025 au stade d’Hangest sur Somme.\nVoici la fiche de réservations des repas : \n﻿﻿﻿ \n  \n 
URL:https://www.hangestsursomme.fr/event/repas-du-14-juillet-2025-par-les-canailloux/
CATEGORIES:Festivité,Repas asso
ATTACH;FMTTYPE=image/png:https://www.hangestsursomme.fr/wp-content/uploads/2025/03/feuartifice.png
END:VEVENT
END:VCALENDAR