BEGIN:VCALENDAR
VERSION:2.0
PRODID:-//Commune d&#039;Hangest-sur-Somme - ECPv6.15.20//NONSGML v1.0//EN
CALSCALE:GREGORIAN
METHOD:PUBLISH
X-ORIGINAL-URL:https://www.hangestsursomme.fr
X-WR-CALDESC:Évènements pour Commune d&#039;Hangest-sur-Somme
REFRESH-INTERVAL;VALUE=DURATION:PT1H
X-Robots-Tag:noindex
X-PUBLISHED-TTL:PT1H
BEGIN:VTIMEZONE
TZID:Europe/Paris
BEGIN:DAYLIGHT
TZOFFSETFROM:+0100
TZOFFSETTO:+0200
TZNAME:CEST
DTSTART:20230326T010000
END:DAYLIGHT
BEGIN:STANDARD
TZOFFSETFROM:+0200
TZOFFSETTO:+0100
TZNAME:CET
DTSTART:20231029T010000
END:STANDARD
BEGIN:DAYLIGHT
TZOFFSETFROM:+0100
TZOFFSETTO:+0200
TZNAME:CEST
DTSTART:20240331T010000
END:DAYLIGHT
BEGIN:STANDARD
TZOFFSETFROM:+0200
TZOFFSETTO:+0100
TZNAME:CET
DTSTART:20241027T010000
END:STANDARD
BEGIN:DAYLIGHT
TZOFFSETFROM:+0100
TZOFFSETTO:+0200
TZNAME:CEST
DTSTART:20250330T010000
END:DAYLIGHT
BEGIN:STANDARD
TZOFFSETFROM:+0200
TZOFFSETTO:+0100
TZNAME:CET
DTSTART:20251026T010000
END:STANDARD
END:VTIMEZONE
BEGIN:VEVENT
DTSTART;TZID=Europe/Paris:20241102T193000
DTEND;TZID=Europe/Paris:20241103T020000
DTSTAMP:20260422T035529
CREATED:20241016T204136Z
LAST-MODIFIED:20241016T204216Z
UID:2378-1730575800-1730599200@www.hangestsursomme.fr
SUMMARY:Repas Rando Hangestoise
DESCRIPTION:Samedi 2 novembre 2024\nSoiree Montagnarde organisée par La Rando Hangestoise de 19H30 à 2h00\nvoir details ci-apres. \n﻿﻿
URL:https://www.hangestsursomme.fr/event/repas-rando-hangestoise/
LOCATION:Salle des fêtes\, rue de la gare\, Hangest sur Somme
CATEGORIES:Associations
ATTACH;FMTTYPE=image/jpeg:https://www.hangestsursomme.fr/wp-content/uploads/2024/10/rando.jpg
END:VEVENT
END:VCALENDAR