BEGIN:VCALENDAR
VERSION:2.0
PRODID:-//Commune d&#039;Hangest-sur-Somme - ECPv6.15.20//NONSGML v1.0//EN
CALSCALE:GREGORIAN
METHOD:PUBLISH
X-WR-CALNAME:Commune d&#039;Hangest-sur-Somme
X-ORIGINAL-URL:https://www.hangestsursomme.fr
X-WR-CALDESC:Évènements pour Commune d&#039;Hangest-sur-Somme
REFRESH-INTERVAL;VALUE=DURATION:PT1H
X-Robots-Tag:noindex
X-PUBLISHED-TTL:PT1H
BEGIN:VTIMEZONE
TZID:Europe/Paris
BEGIN:DAYLIGHT
TZOFFSETFROM:+0100
TZOFFSETTO:+0200
TZNAME:CEST
DTSTART:20240331T010000
END:DAYLIGHT
BEGIN:STANDARD
TZOFFSETFROM:+0200
TZOFFSETTO:+0100
TZNAME:CET
DTSTART:20241027T010000
END:STANDARD
BEGIN:DAYLIGHT
TZOFFSETFROM:+0100
TZOFFSETTO:+0200
TZNAME:CEST
DTSTART:20250330T010000
END:DAYLIGHT
BEGIN:STANDARD
TZOFFSETFROM:+0200
TZOFFSETTO:+0100
TZNAME:CET
DTSTART:20251026T010000
END:STANDARD
BEGIN:DAYLIGHT
TZOFFSETFROM:+0100
TZOFFSETTO:+0200
TZNAME:CEST
DTSTART:20260329T010000
END:DAYLIGHT
BEGIN:STANDARD
TZOFFSETFROM:+0200
TZOFFSETTO:+0100
TZNAME:CET
DTSTART:20261025T010000
END:STANDARD
END:VTIMEZONE
BEGIN:VEVENT
DTSTART;TZID=Europe/Paris:20250713T210000
DTEND;TZID=Europe/Paris:20250713T230000
DTSTAMP:20260422T235244
CREATED:20250304T090346Z
LAST-MODIFIED:20250618T103106Z
UID:2578-1752440400-1752447600@www.hangestsursomme.fr
SUMMARY:Feu d’artifice et retraite aux flambeaux
DESCRIPTION:Feu d’artifice au stade à partir de 23h00 \nDimanche 13 juillet : retraite aux flambeaux \n\n21 heures 15 : rendez-vous pour distribution des lampions.\n21 heures 30 : départ de la mairie en remorque de tracteur pour les petits\, défilé dans les rues d’Hangest jusqu’au stade où sera tiré le feu d’artifice à 23 heures 00.\n\n 
URL:https://www.hangestsursomme.fr/event/feu-dartifice/
CATEGORIES:Festivité
ATTACH;FMTTYPE=image/png:https://www.hangestsursomme.fr/wp-content/uploads/2025/03/feuartifice.png
END:VEVENT
END:VCALENDAR