BEGIN:VCALENDAR
VERSION:2.0
PRODID:-//Commune d&#039;Hangest-sur-Somme - ECPv6.15.20//NONSGML v1.0//EN
CALSCALE:GREGORIAN
METHOD:PUBLISH
X-WR-CALNAME:Commune d&#039;Hangest-sur-Somme
X-ORIGINAL-URL:https://www.hangestsursomme.fr
X-WR-CALDESC:Évènements pour Commune d&#039;Hangest-sur-Somme
REFRESH-INTERVAL;VALUE=DURATION:PT1H
X-Robots-Tag:noindex
X-PUBLISHED-TTL:PT1H
BEGIN:VTIMEZONE
TZID:Europe/Paris
BEGIN:DAYLIGHT
TZOFFSETFROM:+0100
TZOFFSETTO:+0200
TZNAME:CEST
DTSTART:20240331T010000
END:DAYLIGHT
BEGIN:STANDARD
TZOFFSETFROM:+0200
TZOFFSETTO:+0100
TZNAME:CET
DTSTART:20241027T010000
END:STANDARD
BEGIN:DAYLIGHT
TZOFFSETFROM:+0100
TZOFFSETTO:+0200
TZNAME:CEST
DTSTART:20250330T010000
END:DAYLIGHT
BEGIN:STANDARD
TZOFFSETFROM:+0200
TZOFFSETTO:+0100
TZNAME:CET
DTSTART:20251026T010000
END:STANDARD
BEGIN:DAYLIGHT
TZOFFSETFROM:+0100
TZOFFSETTO:+0200
TZNAME:CEST
DTSTART:20260329T010000
END:DAYLIGHT
BEGIN:STANDARD
TZOFFSETFROM:+0200
TZOFFSETTO:+0100
TZNAME:CET
DTSTART:20261025T010000
END:STANDARD
END:VTIMEZONE
BEGIN:VEVENT
DTSTART;VALUE=DATE:20250519
DTEND;VALUE=DATE:20250610
DTSTAMP:20260422T235428
CREATED:20250418T175955Z
LAST-MODIFIED:20250418T175955Z
UID:2653-1747612800-1749513599@www.hangestsursomme.fr
SUMMARY:Fermeture du Secrétariat de Mairie
DESCRIPTION:Le secrétariat de mairie sera fermé du 19 mai 2025 au 09 juin 2025 inclus.
URL:https://www.hangestsursomme.fr/event/fermeture-du-secretariat-de-mairie-7/
CATEGORIES:Information
ATTACH;FMTTYPE=image/png:https://www.hangestsursomme.fr/wp-content/uploads/2023/12/Logo-mairie.png
END:VEVENT
END:VCALENDAR